BEGIN:VCALENDAR
VERSION:2.0
PRODID:-//Thupten Changchup Ling - ECPv6.3.3.1//NONSGML v1.0//EN
CALSCALE:GREGORIAN
METHOD:PUBLISH
X-ORIGINAL-URL:https://sakya.ch
X-WR-CALDESC:Events for Thupten Changchup Ling
REFRESH-INTERVAL;VALUE=DURATION:PT1H
X-Robots-Tag:noindex
X-PUBLISHED-TTL:PT1H
BEGIN:VTIMEZONE
TZID:Europe/Zurich
BEGIN:DAYLIGHT
TZOFFSETFROM:+0100
TZOFFSETTO:+0200
TZNAME:CEST
DTSTART:20260329T010000
END:DAYLIGHT
BEGIN:STANDARD
TZOFFSETFROM:+0200
TZOFFSETTO:+0100
TZNAME:CET
DTSTART:20261025T010000
END:STANDARD
END:VTIMEZONE
BEGIN:VEVENT
DTSTART;TZID=Europe/Zurich:20260531T090000
DTEND;TZID=Europe/Zurich:20260531T090000
DTSTAMP:20260419T191745
CREATED:20250509T161319Z
LAST-MODIFIED:20260404T140130Z
UID:5034-1780218000-1780218000@sakya.ch
SUMMARY:SAGA DAWA - PREGHIERE PER LA PACE UNIVERSALE - PRANZO INSIEME
DESCRIPTION:Guidato da: KHENPO TASHI SANGPO \nOrario: 09.00 – 12.00 \nLuogo: Thupten Changchup Ling\, Arosio/CH & ZOOM \nOfferta libera \n \n  \nSAGA DAWA DÜCHEN è una delle quattro feste Buddhiste principali. Si celebra l’illuminazione e il Parinirvana di Buddha Shakyamuni. Si tratta di uno dei giorni più potenti dell’anno e trovarsi insieme a praticare e recitare le preghiere speciali genera meriti sconfinati\, che dedicheremo in particolare alla pace universale e al bene di tutti gli esseri senzienti. \nSiete tutti i benvenuti a partecipare così che tutti insieme possiamo dare il nostro contributo indiretto per pacificare le difficoltà che il mondo si trova ad affrontare. \nPotete partecipare anche solo parzialmente. \nLe preghiere che reciteremo potete scaricarle QUI \nAlla sua illuminazione all’età di trentacinque anni\, a Bodhgaya\, il Buddha proclamò: “Pace profonda\, semplicità naturale\, luminosità non-composta\, ho trovato un Dharma simile a un nettare.” \nQuando il Buddha giaceva morente in un boschetto della foresta a Kushinagara\, circondato da cinquecento dei suoi discepoli\, disse loro con il suo ultimo respiro: “È nella natura di tutte le cose che prendono forma il loro dissolversi nuovamente. Sforzatevi con tutto il vostro essere per ottenere la perfezione.” \nPartecipazione ad Arosio con pranzo \nVi chiediamo gentilmente di iscrivervi se volete partecipare al pranzo con noi dopo le preghiere cliccando QUI al più tardi quattro giorni prima dell’evento. \n 
URL:https://sakya.ch/event/saga-dawa-preghiere-per-la-pace-universale-2/
CATEGORIES:Dharma,In italiano,ZOOM
ATTACH;FMTTYPE=image/jpeg:https://sakya.ch/wp-content/uploads/2025/05/Saga-Dawa-Duchen-1.jpg
END:VEVENT
BEGIN:VEVENT
DTSTART;TZID=Europe/Zurich:20260616T190000
DTEND;TZID=Europe/Zurich:20260616T210000
DTSTAMP:20260419T191745
CREATED:20250415T174731Z
LAST-MODIFIED:20260419T165420Z
UID:4952-1781636400-1781643600@sakya.ch
SUMMARY:I TESORI DELLA CRESTA DEL GINEPRO TRA I CASTAGNI SECOLARI\, CAMMINANDO E MEDITANDO
DESCRIPTION:Guidato da: MIKE BORTOLOTTI \nOrario: 19.00 – 21.00 \nLuogo: Thupten Changchup Ling\, Arosio/CH \nLingua: IT \nOfferta libera \nDopo una breve passeggiata insieme contempleremo alcuni passaggi dei Terma della Cresta del Ginepro\, poi ognuno potrà liberamente alternare la meditazione seduta trovando il “proprio luogo” tra i castagni secolari\, e il camminare con consapevolezza nella bellezza del suggestivo paesaggio. Riconoscere la spaziosa presenza luminosa dentro di noi è il segreto per vivere in modo pieno\, gioioso e significativo\, e la meditazione nella natura ci aiuta a trovare tale dimensione\, che è da sempre la vera natura della nostra stessa mente e che è l’intento dei Terma che stiamo contemplando. \nDettagli: \nPartenza alle 19.00 dal centro di Arosio. \nBreve tragitto in macchina (5 min.) verso zona Mugena. \nPasseggiare e meditare tra i castagni secolari e lettura del Terma. \nPortate qualcosa di idoneo per sedersi sul prato. \nPartecipazione ad Arosio \nVi chiediamo gentilmente di iscrivervi cliccando QUI per partecipare così da aiutarci con l‘organizzazione al più tardi due giorni prima dell’evento. \n  \nIn caso di brutto tempo continueremo con la contemplazione e la meditazione sui Terma al centro
URL:https://sakya.ch/event/mahamudra-tra-i-castagni-secolari-camminando-e-meditando-3/
CATEGORIES:Dharma,In italiano,ZOOM
ATTACH;FMTTYPE=image/jpeg:https://sakya.ch/wp-content/uploads/2024/03/2023-07-04-sentiero-castagno.jpg
END:VEVENT
END:VCALENDAR