BEGIN:VCALENDAR
VERSION:2.0
PRODID:-//Thupten Changchup Ling - ECPv6.3.3.1//NONSGML v1.0//EN
CALSCALE:GREGORIAN
METHOD:PUBLISH
X-ORIGINAL-URL:https://sakya.ch
X-WR-CALDESC:Events for Thupten Changchup Ling
REFRESH-INTERVAL;VALUE=DURATION:PT1H
X-Robots-Tag:noindex
X-PUBLISHED-TTL:PT1H
BEGIN:VTIMEZONE
TZID:Europe/Zurich
BEGIN:DAYLIGHT
TZOFFSETFROM:+0100
TZOFFSETTO:+0200
TZNAME:CEST
DTSTART:20240331T010000
END:DAYLIGHT
BEGIN:STANDARD
TZOFFSETFROM:+0200
TZOFFSETTO:+0100
TZNAME:CET
DTSTART:20241027T010000
END:STANDARD
END:VTIMEZONE
BEGIN:VEVENT
DTSTART;TZID=Europe/Zurich:20240504T100000
DTEND;TZID=Europe/Zurich:20240505T153000
DTSTAMP:20260419T185224
CREATED:20240411T101857Z
LAST-MODIFIED:20240415T072636Z
UID:3746-1714816800-1714923000@sakya.ch
SUMMARY:BUDDHA SHAKYAMUNI - LA LUCE DEL MONDO
DESCRIPTION:Insegnamenti di: KHENPO TASHI SANGPO \nData: SAB-DOM / 4-5 MAGGIO \nOrario: sabato e domenica 10.00 – 12.00 e 13.30 – 15.30 \nLuogo: Thupten Changchup Ling\, Arosio/CH & ZOOM \nLingua: EN \nTraduzioni disponibili: IT\, SVE \nDonazione consigliata: 30 CHF / 25€ \nIn vista del mese sacro di Saga Dawa (dal 9 maggio al 6 giugno)\, che culmina con il giorno dell’illuminazione del Buddha\, e che include anche il giorno del suo Parinirvana\, Khenpo Tashi darà insegnamenti sulla vita di Shakyamuni\, introducendoci al significato profondo delle 12 azioni straordinarie che egli compì per il beneficio di tutti gli esseri\, ed in particolare per coloro che vivono in questo mondo. \nGli insegnamenti si baseranno sulla preghiera che illustra la vita e gli atti del Buddha\, e questo ci preparerà in modo ottimale per il Saga Dawa\, e ci ispirerà a praticare in modo intenso in questo periodo così speciale e potente. \nPartecipazione ad Arosio \nVi chiediamo gentilmente di iscrivervi per poter partecipare personalmente ad Arosio così per aiutarci con l‘organizzazione (usando il link qui sotto) al più tardi due giorni prima dell’evento. \n\nAROSIO\n\nPartecipazione via Zoom \nDopo la registrazione riceverai una email di conferma da Zoom contenente il link Zoom per partecipare. Clicca su “Entra nella riunione” 15 min. prima dell’evento. \n\nZOOM
URL:https://sakya.ch/event/buddha-shakyamuni-la-luce-del-mondo/
CATEGORIES:In italiano,ZOOM
ATTACH;FMTTYPE=image/jpeg:https://sakya.ch/wp-content/uploads/2024/04/Shakyamuni-with-2-disciples-2-1.jpg
END:VEVENT
END:VCALENDAR