BEGIN:VCALENDAR
VERSION:2.0
PRODID:-//Thupten Changchup Ling - ECPv6.3.3.1//NONSGML v1.0//EN
CALSCALE:GREGORIAN
METHOD:PUBLISH
X-ORIGINAL-URL:https://sakya.ch
X-WR-CALDESC:Events for Thupten Changchup Ling
REFRESH-INTERVAL;VALUE=DURATION:PT1H
X-Robots-Tag:noindex
X-PUBLISHED-TTL:PT1H
BEGIN:VTIMEZONE
TZID:Europe/Zurich
BEGIN:DAYLIGHT
TZOFFSETFROM:+0100
TZOFFSETTO:+0200
TZNAME:CEST
DTSTART:20240331T010000
END:DAYLIGHT
BEGIN:STANDARD
TZOFFSETFROM:+0200
TZOFFSETTO:+0100
TZNAME:CET
DTSTART:20241027T010000
END:STANDARD
END:VTIMEZONE
BEGIN:VEVENT
DTSTART;TZID=Europe/Zurich:20240409T191500
DTEND;TZID=Europe/Zurich:20240409T210000
DTSTAMP:20260419T235234
CREATED:20240319T162927Z
LAST-MODIFIED:20240411T102854Z
UID:3004-1712690100-1712696400@sakya.ch
SUMMARY:MEDITAZIONE SU BUDDHA AVALOKITEŚVARA
DESCRIPTION:Insegnamento dato da: KHENPO TASHI SANGPOData: Martedì 9 APRILE \nOrario: 19.15 – 21.00 \nLuogo: Thupten Changchup Ling\, Arosio/CH & ZOOM \nLingua: EN \nTraduzione disponibile: IT\, SVE \nOfferta libera \nLa pratica di Avalokiteśvara a quattro braccia è un metodo di realizzazione speciale della scuola Sakya che unisce Mahamudra – l’essenza della grande saggezza\, e Mahakaruna – l’essenza della grande compassione. In una singola sessione di meditazione sono qui inclusi i due punti più fondamentali della via verso l’illuminazione\, e ciò è di grande beneficio sia per sé stessi che per gli altri. Dopo alcune brevi spiegazioni Khenpo Tashi guiderà la sadhana. \nPartecipazione ad Arosio \nVi chiediamo gentilmente di iscrivervi per poter partecipare personalmente ad Arosio così per aiutarci con l‘organizzazione (usando il link qui sotto) al più tardi due giorni prima dell’evento. \nAROSIO \nPartecipazione via Zoom \nDopo la registrazione riceverai una email di conferma da Zoom contenente il link Zoom per partecipare. Clicca su “Entra nella riunione” 15 min. prima dell’evento. \nZOOM 
URL:https://sakya.ch/event/buddha-avalokiteshvara-meditation/
CATEGORIES:In italiano,ZOOM
ATTACH;FMTTYPE=image/jpeg:https://sakya.ch/wp-content/uploads/2024/03/Avalokiteshvara4-1155x1536-1-e1710865758217.jpg
END:VEVENT
END:VCALENDAR