BEGIN:VCALENDAR
VERSION:2.0
PRODID:-//Thupten Changchup Ling - ECPv6.3.3.1//NONSGML v1.0//EN
CALSCALE:GREGORIAN
METHOD:PUBLISH
X-ORIGINAL-URL:https://sakya.ch
X-WR-CALDESC:Events for Thupten Changchup Ling
REFRESH-INTERVAL;VALUE=DURATION:PT1H
X-Robots-Tag:noindex
X-PUBLISHED-TTL:PT1H
BEGIN:VTIMEZONE
TZID:Europe/Zurich
BEGIN:DAYLIGHT
TZOFFSETFROM:+0100
TZOFFSETTO:+0200
TZNAME:CEST
DTSTART:20240331T010000
END:DAYLIGHT
BEGIN:STANDARD
TZOFFSETFROM:+0200
TZOFFSETTO:+0100
TZNAME:CET
DTSTART:20241027T010000
END:STANDARD
END:VTIMEZONE
BEGIN:VEVENT
DTSTART;TZID=Europe/Zurich:20240406T100000
DTEND;TZID=Europe/Zurich:20240407T153000
DTSTAMP:20260420T050420
CREATED:20240319T162646Z
LAST-MODIFIED:20240402T162341Z
UID:3001-1712397600-1712503800@sakya.ch
SUMMARY:DECIMO ANNIVERSARIO DI KHENCHEN SHERAB – IL PROFONDO GURUYOGA LAMA CHÖPA
DESCRIPTION:Insegnamenti di: KHENPO TASHI SANGPO \nData: SAB-DOM / 6-7 APRILE \nOrario: sabato e domenica 10.00 – 12.00 e 13.30 – 15.30 \nLuogo: Thupten Changchup Ling\, Arosio/CH & ZOOM \nLingua: EN \nTraduzioni disponibili: IT\, SVE \nDonazione consigliata: 30 CHF / 25€ \n\n\nQuest’anno\, domenica 14 aprile\, ricorre il decimo anniversario di Lama Sherab (1931 – 2014)\, Maestro fondatore dei nostri centri ed essere altamente realizzato. Invocare le sue benedizioni in questa ricorrenza speciale è estremamente potente e di sicuro i benefici saranno esperibili da tutti. Non esiste metodo migliore del Guruyoga per invocare le benedizioni spirituali e il Lama Chöpa è il rituale più appropriato ed efficace per le celebrazioni più importanti. \nKhenpo Tashi darà insegnamenti sul profondo Guruyoga Lama Chöpa\, rituale che sarà poi praticato insieme. \nIl rituale sarà poi ripetuto domenica 14 aprile – giorno effettivo dell’anniversario – dalle 10 alle 12\, al Sakya Tsechen Ling di Kuttolsheim\, accompagnato da molte offerte speciali preparate per l’occasione. Tutti sono invitati a partecipare in loco o via zoom alla grande festa! Ulteriori informazioni QUI \nNel vasto spazio del tuo cuore amorevole\nsi accumulano nuvole di compassione\ne cade una continua pioggia di attività benefiche\nche fa maturare i tuoi discepoli:\nMi prosterno ai piedi di Khenchen Sherab Gyaltsen Amipa! \n(adattato da un canto di Milarepa) \nUnisciti a noi al tempio ad Arosio (CH): \nTi preghiamo di registrarti almeno due giorni prima dell’evento per partecipare di persona ad Arosio (utilizzando il seguente link). \n\nAROSIO\n\nRegistra anticipatamente per questa riunione su Zoom almeno un giorno prima. \nRiceverai una email di conferma da parte di “Sakya Dharma Family Admin” con il link Zoom per partecipare (clicca su “Clicca qui per unirti”) il giorno dell’evento. \n\nZOOM
URL:https://sakya.ch/event/decimo-anniversario-di-khenchen-sherab-il-profondo-guruyoga-lama-chopa/
CATEGORIES:In italiano,ZOOM
ATTACH;FMTTYPE=image/jpeg:https://sakya.ch/wp-content/uploads/2024/03/DSC02961.jpg
END:VEVENT
END:VCALENDAR